BEGIN:VCALENDAR
VERSION:2.0
PRODID:-//Test SAC Website - ECPv6.15.17//NONSGML v1.0//EN
CALSCALE:GREGORIAN
METHOD:PUBLISH
X-WR-CALNAME:Test SAC Website
X-ORIGINAL-URL:https://newsite.suffolkdst.org
X-WR-CALDESC:Events for Test SAC Website
REFRESH-INTERVAL;VALUE=DURATION:PT1H
X-Robots-Tag:noindex
X-PUBLISHED-TTL:PT1H
BEGIN:VTIMEZONE
TZID:America/New_York
BEGIN:DAYLIGHT
TZOFFSETFROM:-0500
TZOFFSETTO:-0400
TZNAME:EDT
DTSTART:20230312T070000
END:DAYLIGHT
BEGIN:STANDARD
TZOFFSETFROM:-0400
TZOFFSETTO:-0500
TZNAME:EST
DTSTART:20231105T060000
END:STANDARD
BEGIN:DAYLIGHT
TZOFFSETFROM:-0500
TZOFFSETTO:-0400
TZNAME:EDT
DTSTART:20240310T070000
END:DAYLIGHT
BEGIN:STANDARD
TZOFFSETFROM:-0400
TZOFFSETTO:-0500
TZNAME:EST
DTSTART:20241103T060000
END:STANDARD
BEGIN:DAYLIGHT
TZOFFSETFROM:-0500
TZOFFSETTO:-0400
TZNAME:EDT
DTSTART:20250309T070000
END:DAYLIGHT
BEGIN:STANDARD
TZOFFSETFROM:-0400
TZOFFSETTO:-0500
TZNAME:EST
DTSTART:20251102T060000
END:STANDARD
END:VTIMEZONE
BEGIN:VEVENT
DTSTART;TZID=America/New_York:20240928T080000
DTEND;TZID=America/New_York:20240928T123000
DTSTAMP:20260423T144840
CREATED:20240828T204849Z
LAST-MODIFIED:20240828T204849Z
UID:9250-1727510400-1727526600@newsite.suffolkdst.org
SUMMARY:CPR & First Aid Training
DESCRIPTION:
URL:https://newsite.suffolkdst.org/event/cpr-first-aid-training/
LOCATION:East Suffolk Recreation Center\, 138 S 6th St\, Suffolk\, VA\, 23434\, United States
CATEGORIES:Delta Emergency Response Team,Event
ATTACH;FMTTYPE=image/png:https://newsite.suffolkdst.org/wp-content/uploads/2024/08/24CPRFallTraining.png
END:VEVENT
BEGIN:VEVENT
DTSTART;TZID=America/New_York:20240921T210000
DTEND;TZID=America/New_York:20240921T220000
DTSTAMP:20260423T144840
CREATED:20240710T165101Z
LAST-MODIFIED:20240909T203937Z
UID:9080-1726952400-1726956000@newsite.suffolkdst.org
SUMMARY:2 Walks supporting 3 Causes!!
DESCRIPTION:Join us for our 2 Walks For 3 Causes!!\n🏃🏾‍♀️🏃🏾‍♀️🏃🏾‍♀️🏃🏾‍♀️🏃🏾‍♀️🏃🏾‍♀️🏃🏾‍♀️🏃🏾‍♀️🏃🏾‍♀️🏃🏾‍♀️🏃🏾‍♀️🏃🏾‍♀️🏃🏾‍♀️🏃🏾‍♀️🏃🏾‍♀️\n🔵🟡Walk in It\, Inc. – Self-Esteem Walk and Rally – Sept. 21st from 9:00 a.m. – 12 noon at Lakeland High School in conjunction with our St. Jude Walk/Run.\nClick Bio Link\, link below or Scan QRcode to DONATE to St. Jude:\nhttps://tinyurl.com/2024StJudeSACDST1964\n🟣Relay For Life of Isle of Wight\, at Luter Sports Complex (900 W. Main Street\, Smithfield) on Saturday\, Sept. 21st\, from 5 p.m. – 8 p.m.\nClick Bio Link\, Link below\, or Scan QRcode to DONATE to Relay For Life;\nhttps://tinyurl.com/24RelayForLifeSACDST1964\n#StJudeWalkRun #stjudechildrensresearchhospital #RelayForLife2024 #GHWINS
URL:https://newsite.suffolkdst.org/event/2024-relay-for-life/
LOCATION:Lakeland High School
CATEGORIES:Event,Physical & Mental Health
ATTACH;FMTTYPE=image/png:https://newsite.suffolkdst.org/wp-content/uploads/2024/07/2-WALK-supporting-2-CAUSES.png
END:VEVENT
BEGIN:VEVENT
DTSTART;TZID=America/New_York:20240918T183000
DTEND;TZID=America/New_York:20240918T193000
DTSTAMP:20260423T144840
CREATED:20240827T151358Z
LAST-MODIFIED:20240827T182612Z
UID:9246-1726684200-1726687800@newsite.suffolkdst.org
SUMMARY:2024 Delta GEMS & Delta Academy Meet & Greet
DESCRIPTION:
URL:https://newsite.suffolkdst.org/event/2024-delta-gems-delta-academy-meet-greet/
LOCATION:Nanesmond River High School\, 3301 Nansemond Pkwy\, Suffolk\, VA\, 23434-2046\, United States
CATEGORIES:Educational Development,Event
ATTACH;FMTTYPE=image/png:https://newsite.suffolkdst.org/wp-content/uploads/2024/08/24-25-DGA_GEMS-MeetGreet-1.png
END:VEVENT
BEGIN:VEVENT
DTSTART;TZID=America/New_York:20240914T120000
DTEND;TZID=America/New_York:20240914T160000
DTSTAMP:20260423T144840
CREATED:20240715T200758Z
LAST-MODIFIED:20240715T200759Z
UID:9087-1726315200-1726329600@newsite.suffolkdst.org
SUMMARY:60th Charter Day Celebration: Black Diamonds Day Soiree
DESCRIPTION:
URL:https://newsite.suffolkdst.org/event/60th-charter-day-celebration-black-diamonds-day-soiree/
LOCATION:Hilton Norfolk The Main\, 100 East Main Street\, Norfolk\, VA\, 23510\, United States
CATEGORIES:Event
ATTACH;FMTTYPE=image/png:https://newsite.suffolkdst.org/wp-content/uploads/2024/07/General-Public-Banner.png
END:VEVENT
BEGIN:VEVENT
DTSTART;TZID=America/New_York:20240824T100000
DTEND;TZID=America/New_York:20240824T130000
DTSTAMP:20260423T144840
CREATED:20240712T164951Z
LAST-MODIFIED:20240820T232018Z
UID:9084-1724493600-1724504400@newsite.suffolkdst.org
SUMMARY:2024 Back to School Community Day
DESCRIPTION:
URL:https://newsite.suffolkdst.org/event/2024-back-to-school-community-day/
LOCATION:East Suffolk Recreation Center\, 138 S 6th St\, Suffolk\, VA\, 23434\, United States
CATEGORIES:Economic Development,Educational Development,Event,Physical & Mental Health,Political Awareness and Involvement,Program and Planning
ATTACH;FMTTYPE=image/png:https://newsite.suffolkdst.org/wp-content/uploads/2024/07/2024-B2SCD-Media-2.png
END:VEVENT
BEGIN:VEVENT
DTSTART;TZID=America/New_York:20240806T173000
DTEND;TZID=America/New_York:20240806T193000
DTSTAMP:20260423T144840
CREATED:20240731T174417Z
LAST-MODIFIED:20240731T174417Z
UID:9092-1722965400-1722972600@newsite.suffolkdst.org
SUMMARY:2024 National Night Out
DESCRIPTION:
URL:https://newsite.suffolkdst.org/event/2024-national-night-out/
LOCATION:VA
CATEGORIES:Educational Development,Event,Physical & Mental Health,Program and Planning,Social Action
ATTACH;FMTTYPE=image/png:https://newsite.suffolkdst.org/wp-content/uploads/2024/07/NNO-Public-Flyer.png
END:VEVENT
BEGIN:VEVENT
DTSTART;TZID=America/New_York:20240713T140000
DTEND;TZID=America/New_York:20240713T150000
DTSTAMP:20260423T144840
CREATED:20240702T212851Z
LAST-MODIFIED:20240702T212851Z
UID:9074-1720879200-1720882800@newsite.suffolkdst.org
SUMMARY:Virtual Voter Registration Training
DESCRIPTION:
URL:https://newsite.suffolkdst.org/event/virtual-voter-registration-training/
LOCATION:VA
CATEGORIES:Event,Political Awareness and Involvement
ATTACH;FMTTYPE=image/png:https://newsite.suffolkdst.org/wp-content/uploads/2024/07/24-VRD-Training-Final.png
END:VEVENT
END:VCALENDAR