BEGIN:VCALENDAR
VERSION:2.0
PRODID:-//Test SAC Website - ECPv6.15.17//NONSGML v1.0//EN
CALSCALE:GREGORIAN
METHOD:PUBLISH
X-WR-CALNAME:Test SAC Website
X-ORIGINAL-URL:https://newsite.suffolkdst.org
X-WR-CALDESC:Events for Test SAC Website
REFRESH-INTERVAL;VALUE=DURATION:PT1H
X-Robots-Tag:noindex
X-PUBLISHED-TTL:PT1H
BEGIN:VTIMEZONE
TZID:America/New_York
BEGIN:DAYLIGHT
TZOFFSETFROM:-0500
TZOFFSETTO:-0400
TZNAME:EDT
DTSTART:20230312T070000
END:DAYLIGHT
BEGIN:STANDARD
TZOFFSETFROM:-0400
TZOFFSETTO:-0500
TZNAME:EST
DTSTART:20231105T060000
END:STANDARD
BEGIN:DAYLIGHT
TZOFFSETFROM:-0500
TZOFFSETTO:-0400
TZNAME:EDT
DTSTART:20240310T070000
END:DAYLIGHT
BEGIN:STANDARD
TZOFFSETFROM:-0400
TZOFFSETTO:-0500
TZNAME:EST
DTSTART:20241103T060000
END:STANDARD
BEGIN:DAYLIGHT
TZOFFSETFROM:-0500
TZOFFSETTO:-0400
TZNAME:EDT
DTSTART:20250309T070000
END:DAYLIGHT
BEGIN:STANDARD
TZOFFSETFROM:-0400
TZOFFSETTO:-0500
TZNAME:EST
DTSTART:20251102T060000
END:STANDARD
BEGIN:DAYLIGHT
TZOFFSETFROM:-0500
TZOFFSETTO:-0400
TZNAME:EDT
DTSTART:20260308T070000
END:DAYLIGHT
BEGIN:STANDARD
TZOFFSETFROM:-0400
TZOFFSETTO:-0500
TZNAME:EST
DTSTART:20261101T060000
END:STANDARD
BEGIN:DAYLIGHT
TZOFFSETFROM:-0500
TZOFFSETTO:-0400
TZNAME:EDT
DTSTART:20270314T070000
END:DAYLIGHT
BEGIN:STANDARD
TZOFFSETFROM:-0400
TZOFFSETTO:-0500
TZNAME:EST
DTSTART:20271107T060000
END:STANDARD
END:VTIMEZONE
BEGIN:VEVENT
DTSTART;TZID=America/New_York:20260122T190000
DTEND;TZID=America/New_York:20260122T200000
DTSTAMP:20260423T133054
CREATED:20241009T192953Z
LAST-MODIFIED:20260116T233959Z
UID:9334-1769108400-1769112000@newsite.suffolkdst.org
SUMMARY:College Hill 757 Part 4: Free Application for Federal Student Aid (FAFSA)
DESCRIPTION:Join us for College Hill 757!!!\nA 4-Part Series focus on college applications\, Uniquely Prepared Students (special accommodations)\, scholarships\, and financial aid. Guest speakers will be available to provide information on various topics and for questions and answers.\n\n\nUniquely Prepared Students (UPS) program helping special needs students transition to college. UPS is being funded by a seed grant awarded to our chapter by DST National Scholarship and Standards.\n\n\n\n\n\n\nPart 4: Free Application for Federal Student Aid (FAFSA)\nhttps://tinyurl.com/24CollegeHill757Part4\n\n\n\n#DeltaAcademy #DeltaGEMS #UPS\n#CollegeBoundSeries #SensationalSAR #DST1913
URL:https://newsite.suffolkdst.org/event/college-hill-757-part-4-free-application-for-federal-student-aid-fafsa/
LOCATION:VA
CATEGORIES:College Hill 757,Educational Development,Event,Program and Planning
ATTACH;FMTTYPE=image/png:https://newsite.suffolkdst.org/wp-content/uploads/2024/10/College-Hill-757_-Part-4.png
END:VEVENT
BEGIN:VEVENT
DTSTART;TZID=America/New_York:20241201T100000
DTEND;TZID=America/New_York:20241201T120000
DTSTAMP:20260423T133054
CREATED:20241111T022533Z
LAST-MODIFIED:20241111T022533Z
UID:9366-1733047200-1733054400@newsite.suffolkdst.org
SUMMARY:2024  WORLD AIDS DAY
DESCRIPTION:Come One\, Come All as we unite globally with governments and organizations around the world to bring awareness to the AIDs epidemic. We will be worshiping at Tabernacle Baptist Outreach Center\n\n\nWe are also collecting toiletry items to benefit local charities for World Aids Day.\n\nThe following items are requested: Baby Wipes\, Body Soap\, Conditioner\, Combs\, Dental Floss\, Deodorant\, Hairbrushes\, Lotion\, Feminine Hygiene\, Shampoo\, Shaving Razors and Cream\, Shaving Crème\, Facial Tissues\, Toilet Paper\, Toothbrushes and Toothpaste.\n\n\n#SACDST1964 #ServiceInOurHearts #HeartWorks #worldaidsday2024\n#WAD2024 #KnowYourStatus\n#GHWins #SustainAndAccelerateHIVProgress
URL:https://newsite.suffolkdst.org/event/2024-world-aids-day/
LOCATION:Tabernacle Baptist Outreach Center\, 3621 Nansemond Parkway\, Suffolk\, VA\, 23435\, United States
CATEGORIES:Event,International Awareness & Involvement,Physical & Mental Health,Program and Planning
ATTACH;FMTTYPE=image/png:https://newsite.suffolkdst.org/wp-content/uploads/2024/11/2024-WAD.png
END:VEVENT
BEGIN:VEVENT
DTSTART;TZID=America/New_York:20241116T100000
DTEND;TZID=America/New_York:20241116T120000
DTSTAMP:20260423T133054
CREATED:20241022T161403Z
LAST-MODIFIED:20241111T021251Z
UID:9348-1731751200-1731758400@newsite.suffolkdst.org
SUMMARY:2024 Food & Coat Drive
DESCRIPTION:
URL:https://newsite.suffolkdst.org/event/2024-food-coat-drive/
LOCATION:Suffolk Salvation Army (Parking Lot)\, 400 Bank St\, Suffolk\, VA\, 23434\, United States
CATEGORIES:Event,Program and Planning
ATTACH;FMTTYPE=image/png:https://newsite.suffolkdst.org/wp-content/uploads/2024/10/Food-and-Coat-Drive.png
END:VEVENT
BEGIN:VEVENT
DTSTART;TZID=America/New_York:20241112T190000
DTEND;TZID=America/New_York:20241112T200000
DTSTAMP:20260423T133054
CREATED:20240924T135926Z
LAST-MODIFIED:20241108T015033Z
UID:9315-1731438000-1731441600@newsite.suffolkdst.org
SUMMARY:College Hill 757 Part 1: Access Granted
DESCRIPTION:Join us for our College Hill 757!!\n\nA 4-Part Series focus on college applications\, Uniquely Prepared Students (special accommodations)\, scholarships\, and financial aid. Guest speakers will be available to provide information on various topics and for questions and answers.\n\n\nUniquely Prepared Students (UPS) program helping special needs students transition to college. UPS is being funded by a seed grant awarded to our chapter by DST National Scholarship and Standards.\n\n\nPart 1: Access Granted:\nHow to Apply/Where to Start\nhttps://tinyurl.com/24CollegeHill757Part1\n\n\n\n\n\n\n\n#DeltaAcademy #DeltaGEMS #UPS\n#CollegeBoundSeries #SensationalSAR #DST1913
URL:https://newsite.suffolkdst.org/event/college-hill-757-4-part-series/
LOCATION:Via Zoom
CATEGORIES:Educational Development,Event,Physical & Mental Health,Program and Planning
ATTACH;FMTTYPE=image/png:https://newsite.suffolkdst.org/wp-content/uploads/2024/09/College-Hill-757_Part-1-1.png
END:VEVENT
BEGIN:VEVENT
DTSTART;TZID=America/New_York:20241109T110000
DTEND;TZID=America/New_York:20241109T120000
DTSTAMP:20260423T133054
CREATED:20241022T161036Z
LAST-MODIFIED:20241022T161037Z
UID:9345-1731150000-1731153600@newsite.suffolkdst.org
SUMMARY:The Write Stuff: Best Practices for Writing College Application Essays
DESCRIPTION:
URL:https://newsite.suffolkdst.org/event/the-write-stuff-best-practices-for-writing-college-application-essays/
LOCATION:King’s Fork High School
CATEGORIES:College Hill 757,Educational Development,Event,Program and Planning
ATTACH;FMTTYPE=image/png:https://newsite.suffolkdst.org/wp-content/uploads/2024/10/Writing-College-Ad-Essays.png
END:VEVENT
BEGIN:VEVENT
DTSTART;TZID=America/New_York:20241109T103000
DTEND;TZID=America/New_York:20241109T130000
DTSTAMP:20260423T133054
CREATED:20240918T015855Z
LAST-MODIFIED:20241108T015449Z
UID:9310-1731148200-1731157200@newsite.suffolkdst.org
SUMMARY:2024 College & Career Fair
DESCRIPTION:
URL:https://newsite.suffolkdst.org/event/2024-college-career-fair/
LOCATION:King’s Fork High School
CATEGORIES:Educational Development,Event,Program and Planning
ATTACH;FMTTYPE=image/png:https://newsite.suffolkdst.org/wp-content/uploads/2024/09/2024-Fall-CCF-2.png
END:VEVENT
BEGIN:VEVENT
DTSTART;TZID=America/New_York:20241106T190000
DTEND;TZID=America/New_York:20241106T200000
DTSTAMP:20260423T133054
CREATED:20241009T192515Z
LAST-MODIFIED:20241031T182131Z
UID:9331-1730919600-1730923200@newsite.suffolkdst.org
SUMMARY:College Hill 757 Part 3: Just Give Me My Money: First Generation College Students & Merit-Based vs Need-Based Scholarships
DESCRIPTION:Join us for College Hill 757!!!👩🏾‍🎓🎉👨🏾‍🎓🎉🎓\nA 4-Part Series focus on college applications\, Uniquely Prepared Students (special accommodations)\, scholarships\, and financial aid. Guest speakers will be available to provide information on various topics and for questions and answers.\nUniquely Prepared Students (UPS) program helping special needs students transition to college. UPS is being funded by a seed grant awarded to our chapter by DST National Scholarship and Standards. \nPart 3: Just Give Me My Money: First Generation College Students & Merit-Based vs Need-Based Scholarships\nhttps://tinyurl.com/24CollegeHill757Part3 \n#DeltaAcademy #DeltaGEMS #UPS\n#CollegeBoundSeries #SensationalSAR #DST1913
URL:https://newsite.suffolkdst.org/event/college-hill-757-part-3-just-give-me-my-money-first-generation-college-students-merit-based-vs-need-based-scholarships/
LOCATION:VA
CATEGORIES:College Hill 757,Educational Development,Event,Program and Planning
ATTACH;FMTTYPE=image/png:https://newsite.suffolkdst.org/wp-content/uploads/2024/10/College-Hill-757-Part-3.png
END:VEVENT
BEGIN:VEVENT
DTSTART;TZID=America/New_York:20241102T120000
DTEND;TZID=America/New_York:20241102T150000
DTSTAMP:20260423T133054
CREATED:20241029T183503Z
LAST-MODIFIED:20241101T162802Z
UID:9351-1730548800-1730559600@newsite.suffolkdst.org
SUMMARY:2024 GOTV Canvassing
DESCRIPTION:NEW LOCATION!! SUFFOLK REGISTER OFFICE…VOLUNTEERS NEEDED!!
URL:https://newsite.suffolkdst.org/event/2024-gotv-canvassing/
LOCATION:Suffolk Register Office\, 440 Market Street\, Suffolk\, 23434\, United States
CATEGORIES:Event,Political Awareness and Involvement
ATTACH;FMTTYPE=image/png:https://newsite.suffolkdst.org/wp-content/uploads/2024/10/2024-GOTV-1.png
END:VEVENT
BEGIN:VEVENT
DTSTART;TZID=America/New_York:20241030T190000
DTEND;TZID=America/New_York:20241030T200000
DTSTAMP:20260423T133054
CREATED:20241009T191948Z
LAST-MODIFIED:20241022T160521Z
UID:9328-1730314800-1730318400@newsite.suffolkdst.org
SUMMARY:College Hill 757 Part 2: Uniquely Prepared Students: Special Accommodations
DESCRIPTION:Join us for College Hill 757!!!👩🏾‍🎓🎉👨🏾‍🎓🎉🎓\nA 4-Part Series focus on college applications\, Uniquely Prepared Students (special accommodations)\, scholarships\, and financial aid. Guest speakers will be available to provide information on various topics and for questions and answers.\nUniquely Prepared Students (UPS) program helping special needs students transition to college. UPS is being funded by a seed grant awarded to our chapter by DST National Scholarship and Standards. \nPart 2: Uniquely Prepared Students: Special Accommodations\nhttps://tinyurl.com/24CollegeHill757Part2 \n#DeltaAcademy #DeltaGEMS #UPS\n#CollegeBoundSeries #SensationalSAR #DST1913
URL:https://newsite.suffolkdst.org/event/college-hill-757-part-2-uniquely-prepared-students-special-accommodations/
LOCATION:VA
CATEGORIES:College Hill 757,Educational Development,Event,Program and Planning
ATTACH;FMTTYPE=image/png:https://newsite.suffolkdst.org/wp-content/uploads/2024/10/College-Hill-757_Part-2-1.png
END:VEVENT
BEGIN:VEVENT
DTSTART;TZID=America/New_York:20241023T183000
DTEND;TZID=America/New_York:20241023T203000
DTSTAMP:20260423T133054
CREATED:20240918T015157Z
LAST-MODIFIED:20240918T015157Z
UID:9302-1729708200-1729715400@newsite.suffolkdst.org
SUMMARY:Home Fire and Safety Prevention Training
DESCRIPTION:
URL:https://newsite.suffolkdst.org/event/home-fire-and-safety-prevention-training/
LOCATION:Fire Station #6\, 300 Kings Ford Road\, Suffolk\, VA\, 23434\, United States
CATEGORIES:Delta Emergency Response Team,Event
ATTACH;FMTTYPE=image/png:https://newsite.suffolkdst.org/wp-content/uploads/2024/09/Fire-Prevention-Month.png
END:VEVENT
BEGIN:VEVENT
DTSTART;TZID=America/New_York:20241016T183000
DTEND;TZID=America/New_York:20241016T193000
DTSTAMP:20260423T133054
CREATED:20240923T203122Z
LAST-MODIFIED:20240923T203122Z
UID:9312-1729103400-1729107000@newsite.suffolkdst.org
SUMMARY:🌏📱🌏THE W.O.W EVENT 🌏📱🌏
DESCRIPTION:
URL:https://newsite.suffolkdst.org/event/%f0%9f%8c%8f%f0%9f%93%b1%f0%9f%8c%8fthe-w-o-w-event-%f0%9f%8c%8f%f0%9f%93%b1%f0%9f%8c%8f/
LOCATION:East Suffolk Recreation Center\, 138 S 6th St\, Suffolk\, VA\, 23434\, United States
CATEGORIES:Educational Development,Event,Physical & Mental Health,Program and Planning
ATTACH;FMTTYPE=image/png:https://newsite.suffolkdst.org/wp-content/uploads/2024/09/24-WOW.png
END:VEVENT
BEGIN:VEVENT
DTSTART;TZID=America/New_York:20240928T193000
DTEND;TZID=America/New_York:20240928T220000
DTSTAMP:20260423T133054
CREATED:20240831T154323Z
LAST-MODIFIED:20240831T154324Z
UID:9253-1727551800-1727560800@newsite.suffolkdst.org
SUMMARY:SAC-VIP TICKET: A NIGHT TO REMEMBER with LUTHER RE-LIVES
DESCRIPTION:
URL:https://newsite.suffolkdst.org/event/sac-vip-ticket-a-night-to-remember-with-luther-re-lives/
LOCATION:Suffolk Cultural and Arts Center\, 110 Finney Avenue\, Suffolk\, VA\, 23434\, United States
CATEGORIES:Arts and Letters,Event
ATTACH;FMTTYPE=image/png:https://newsite.suffolkdst.org/wp-content/uploads/2024/08/Luther-Vandross.png
END:VEVENT
BEGIN:VEVENT
DTSTART;TZID=America/New_York:20240928T080000
DTEND;TZID=America/New_York:20240928T123000
DTSTAMP:20260423T133054
CREATED:20240828T204849Z
LAST-MODIFIED:20240828T204849Z
UID:9250-1727510400-1727526600@newsite.suffolkdst.org
SUMMARY:CPR & First Aid Training
DESCRIPTION:
URL:https://newsite.suffolkdst.org/event/cpr-first-aid-training/
LOCATION:East Suffolk Recreation Center\, 138 S 6th St\, Suffolk\, VA\, 23434\, United States
CATEGORIES:Delta Emergency Response Team,Event
ATTACH;FMTTYPE=image/png:https://newsite.suffolkdst.org/wp-content/uploads/2024/08/24CPRFallTraining.png
END:VEVENT
BEGIN:VEVENT
DTSTART;TZID=America/New_York:20240921T210000
DTEND;TZID=America/New_York:20240921T220000
DTSTAMP:20260423T133054
CREATED:20240710T165101Z
LAST-MODIFIED:20240909T203937Z
UID:9080-1726952400-1726956000@newsite.suffolkdst.org
SUMMARY:2 Walks supporting 3 Causes!!
DESCRIPTION:Join us for our 2 Walks For 3 Causes!!\n🏃🏾‍♀️🏃🏾‍♀️🏃🏾‍♀️🏃🏾‍♀️🏃🏾‍♀️🏃🏾‍♀️🏃🏾‍♀️🏃🏾‍♀️🏃🏾‍♀️🏃🏾‍♀️🏃🏾‍♀️🏃🏾‍♀️🏃🏾‍♀️🏃🏾‍♀️🏃🏾‍♀️\n🔵🟡Walk in It\, Inc. – Self-Esteem Walk and Rally – Sept. 21st from 9:00 a.m. – 12 noon at Lakeland High School in conjunction with our St. Jude Walk/Run.\nClick Bio Link\, link below or Scan QRcode to DONATE to St. Jude:\nhttps://tinyurl.com/2024StJudeSACDST1964\n🟣Relay For Life of Isle of Wight\, at Luter Sports Complex (900 W. Main Street\, Smithfield) on Saturday\, Sept. 21st\, from 5 p.m. – 8 p.m.\nClick Bio Link\, Link below\, or Scan QRcode to DONATE to Relay For Life;\nhttps://tinyurl.com/24RelayForLifeSACDST1964\n#StJudeWalkRun #stjudechildrensresearchhospital #RelayForLife2024 #GHWINS
URL:https://newsite.suffolkdst.org/event/2024-relay-for-life/
LOCATION:Lakeland High School
CATEGORIES:Event,Physical & Mental Health
ATTACH;FMTTYPE=image/png:https://newsite.suffolkdst.org/wp-content/uploads/2024/07/2-WALK-supporting-2-CAUSES.png
END:VEVENT
BEGIN:VEVENT
DTSTART;TZID=America/New_York:20240918T183000
DTEND;TZID=America/New_York:20240918T193000
DTSTAMP:20260423T133054
CREATED:20240827T151358Z
LAST-MODIFIED:20240827T182612Z
UID:9246-1726684200-1726687800@newsite.suffolkdst.org
SUMMARY:2024 Delta GEMS & Delta Academy Meet & Greet
DESCRIPTION:
URL:https://newsite.suffolkdst.org/event/2024-delta-gems-delta-academy-meet-greet/
LOCATION:Nanesmond River High School\, 3301 Nansemond Pkwy\, Suffolk\, VA\, 23434-2046\, United States
CATEGORIES:Educational Development,Event
ATTACH;FMTTYPE=image/png:https://newsite.suffolkdst.org/wp-content/uploads/2024/08/24-25-DGA_GEMS-MeetGreet-1.png
END:VEVENT
BEGIN:VEVENT
DTSTART;TZID=America/New_York:20240914T120000
DTEND;TZID=America/New_York:20240914T160000
DTSTAMP:20260423T133054
CREATED:20240715T200758Z
LAST-MODIFIED:20240715T200759Z
UID:9087-1726315200-1726329600@newsite.suffolkdst.org
SUMMARY:60th Charter Day Celebration: Black Diamonds Day Soiree
DESCRIPTION:
URL:https://newsite.suffolkdst.org/event/60th-charter-day-celebration-black-diamonds-day-soiree/
LOCATION:Hilton Norfolk The Main\, 100 East Main Street\, Norfolk\, VA\, 23510\, United States
CATEGORIES:Event
ATTACH;FMTTYPE=image/png:https://newsite.suffolkdst.org/wp-content/uploads/2024/07/General-Public-Banner.png
END:VEVENT
BEGIN:VEVENT
DTSTART;TZID=America/New_York:20240824T100000
DTEND;TZID=America/New_York:20240824T130000
DTSTAMP:20260423T133054
CREATED:20240712T164951Z
LAST-MODIFIED:20240820T232018Z
UID:9084-1724493600-1724504400@newsite.suffolkdst.org
SUMMARY:2024 Back to School Community Day
DESCRIPTION:
URL:https://newsite.suffolkdst.org/event/2024-back-to-school-community-day/
LOCATION:East Suffolk Recreation Center\, 138 S 6th St\, Suffolk\, VA\, 23434\, United States
CATEGORIES:Economic Development,Educational Development,Event,Physical & Mental Health,Political Awareness and Involvement,Program and Planning
ATTACH;FMTTYPE=image/png:https://newsite.suffolkdst.org/wp-content/uploads/2024/07/2024-B2SCD-Media-2.png
END:VEVENT
BEGIN:VEVENT
DTSTART;TZID=America/New_York:20240806T173000
DTEND;TZID=America/New_York:20240806T193000
DTSTAMP:20260423T133054
CREATED:20240731T174417Z
LAST-MODIFIED:20240731T174417Z
UID:9092-1722965400-1722972600@newsite.suffolkdst.org
SUMMARY:2024 National Night Out
DESCRIPTION:
URL:https://newsite.suffolkdst.org/event/2024-national-night-out/
LOCATION:VA
CATEGORIES:Educational Development,Event,Physical & Mental Health,Program and Planning,Social Action
ATTACH;FMTTYPE=image/png:https://newsite.suffolkdst.org/wp-content/uploads/2024/07/NNO-Public-Flyer.png
END:VEVENT
BEGIN:VEVENT
DTSTART;TZID=America/New_York:20240713T140000
DTEND;TZID=America/New_York:20240713T150000
DTSTAMP:20260423T133054
CREATED:20240702T212851Z
LAST-MODIFIED:20240702T212851Z
UID:9074-1720879200-1720882800@newsite.suffolkdst.org
SUMMARY:Virtual Voter Registration Training
DESCRIPTION:
URL:https://newsite.suffolkdst.org/event/virtual-voter-registration-training/
LOCATION:VA
CATEGORIES:Event,Political Awareness and Involvement
ATTACH;FMTTYPE=image/png:https://newsite.suffolkdst.org/wp-content/uploads/2024/07/24-VRD-Training-Final.png
END:VEVENT
END:VCALENDAR